BEGIN:VCALENDAR
VERSION:2.0
PRODID:spatie/icalendar-generator
BEGIN:VTIMEZONE
TZID:UTC
BEGIN:STANDARD
DTSTART:20250726T110710
TZOFFSETFROM:+0000
TZOFFSETTO:+0000
END:STANDARD
END:VTIMEZONE
BEGIN:VEVENT
UID:69e8abdee3223
DTSTAMP:20260422T110710Z
SUMMARY:MusikWelten
DTSTART:20261018T080000Z
DTEND:20261018T080000Z
END:VEVENT
END:VCALENDAR