BEGIN:VCALENDAR
VERSION:2.0
PRODID:spatie/icalendar-generator
BEGIN:VTIMEZONE
TZID:UTC
BEGIN:STANDARD
DTSTART:20250726T110856
TZOFFSETFROM:+0000
TZOFFSETTO:+0000
END:STANDARD
END:VTIMEZONE
BEGIN:VEVENT
UID:69e8ac48115a5
DTSTAMP:20260422T110856Z
SUMMARY:MusikWelten
DTSTART:20261009T080000Z
DTEND:20261009T080000Z
END:VEVENT
END:VCALENDAR