BEGIN:VCALENDAR
VERSION:2.0
PRODID:spatie/icalendar-generator
BEGIN:VTIMEZONE
TZID:UTC
BEGIN:STANDARD
DTSTART:20250726T105652
TZOFFSETFROM:+0000
TZOFFSETTO:+0000
END:STANDARD
END:VTIMEZONE
BEGIN:VEVENT
UID:69e8a974a5bf4
DTSTAMP:20260422T105652Z
SUMMARY:MusikWelten
DTSTART:20260902T080000Z
DTEND:20260902T080000Z
END:VEVENT
END:VCALENDAR