BEGIN:VCALENDAR
VERSION:2.0
PRODID:spatie/icalendar-generator
BEGIN:VTIMEZONE
TZID:UTC
BEGIN:STANDARD
DTSTART:20250724T150144
TZOFFSETFROM:+0000
TZOFFSETTO:+0000
END:STANDARD
END:VTIMEZONE
BEGIN:VEVENT
UID:69e63fd84256b
DTSTAMP:20260420T150144Z
SUMMARY:Versunkene Geschichte - Archäologie an Rhein und Neckar
DTSTART:20261111T090000Z
DTEND:20261111T090000Z
END:VEVENT
END:VCALENDAR