BEGIN:VCALENDAR
VERSION:2.0
PRODID:spatie/icalendar-generator
BEGIN:VTIMEZONE
TZID:UTC
BEGIN:STANDARD
DTSTART:20250728T003933
TZOFFSETFROM:+0000
TZOFFSETTO:+0000
END:STANDARD
END:VTIMEZONE
BEGIN:VEVENT
UID:69eabbc5a636e
DTSTAMP:20260424T003933Z
SUMMARY:Versunkene Geschichte - Archäologie an Rhein und Neckar
DTSTART:20260924T080000Z
DTEND:20260924T080000Z
END:VEVENT
END:VCALENDAR