BEGIN:VCALENDAR
VERSION:2.0
PRODID:spatie/icalendar-generator
BEGIN:VTIMEZONE
TZID:UTC
BEGIN:STANDARD
DTSTART:20250724T160353
TZOFFSETFROM:+0000
TZOFFSETTO:+0000
END:STANDARD
END:VTIMEZONE
BEGIN:VEVENT
UID:69e64e6966904
DTSTAMP:20260420T160353Z
SUMMARY:Ägypten - Land der Unsterblichkeit
DTSTART:20261230T090000Z
DTEND:20261230T090000Z
END:VEVENT
END:VCALENDAR