BEGIN:VCALENDAR
VERSION:2.0
PRODID:spatie/icalendar-generator
BEGIN:VTIMEZONE
TZID:UTC
BEGIN:STANDARD
DTSTART:20250725T122542
TZOFFSETFROM:+0000
TZOFFSETTO:+0000
END:STANDARD
END:VTIMEZONE
BEGIN:VEVENT
UID:69e76cc6698b3
DTSTAMP:20260421T122542Z
SUMMARY:Ägypten - Land der Unsterblichkeit
DTSTART:20261215T090000Z
DTEND:20261215T090000Z
END:VEVENT
END:VCALENDAR