BEGIN:VCALENDAR
VERSION:2.0
PRODID:spatie/icalendar-generator
BEGIN:VTIMEZONE
TZID:UTC
BEGIN:STANDARD
DTSTART:20250724T200758
TZOFFSETFROM:+0000
TZOFFSETTO:+0000
END:STANDARD
END:VTIMEZONE
BEGIN:VEVENT
UID:69e6879e68c1f
DTSTAMP:20260420T200758Z
SUMMARY:Ägypten - Land der Unsterblichkeit
DTSTART:20261212T090000Z
DTEND:20261212T090000Z
END:VEVENT
END:VCALENDAR