BEGIN:VCALENDAR
VERSION:2.0
PRODID:spatie/icalendar-generator
BEGIN:VTIMEZONE
TZID:UTC
BEGIN:STANDARD
DTSTART:20250724T161638
TZOFFSETFROM:+0000
TZOFFSETTO:+0000
END:STANDARD
END:VTIMEZONE
BEGIN:VEVENT
UID:69e65166d0656
DTSTAMP:20260420T161638Z
SUMMARY:Ägypten - Land der Unsterblichkeit
DTSTART:20261205T090000Z
DTEND:20261205T090000Z
END:VEVENT
END:VCALENDAR