BEGIN:VCALENDAR
VERSION:2.0
PRODID:spatie/icalendar-generator
BEGIN:VTIMEZONE
TZID:UTC
BEGIN:STANDARD
DTSTART:20250726T092017
TZOFFSETFROM:+0000
TZOFFSETTO:+0000
END:STANDARD
END:VTIMEZONE
BEGIN:VEVENT
UID:69e892d1e7c6a
DTSTAMP:20260422T092017Z
SUMMARY:Ägypten - Land der Unsterblichkeit
DTSTART:20261119T090000Z
DTEND:20261119T090000Z
END:VEVENT
END:VCALENDAR