BEGIN:VCALENDAR
VERSION:2.0
PRODID:spatie/icalendar-generator
BEGIN:VTIMEZONE
TZID:UTC
BEGIN:STANDARD
DTSTART:20250726T125338
TZOFFSETFROM:+0000
TZOFFSETTO:+0000
END:STANDARD
END:VTIMEZONE
BEGIN:VEVENT
UID:69e8c4d264a37
DTSTAMP:20260422T125338Z
SUMMARY:Ägypten - Land der Unsterblichkeit
DTSTART:20261114T090000Z
DTEND:20261114T090000Z
END:VEVENT
END:VCALENDAR