BEGIN:VCALENDAR
VERSION:2.0
PRODID:spatie/icalendar-generator
BEGIN:VTIMEZONE
TZID:UTC
BEGIN:STANDARD
DTSTART:20250726T132423
TZOFFSETFROM:+0000
TZOFFSETTO:+0000
END:STANDARD
END:VTIMEZONE
BEGIN:VEVENT
UID:69e8cc07b8f9d
DTSTAMP:20260422T132423Z
SUMMARY:Ägypten - Land der Unsterblichkeit
DTSTART:20261112T090000Z
DTEND:20261112T090000Z
END:VEVENT
END:VCALENDAR