BEGIN:VCALENDAR
VERSION:2.0
PRODID:spatie/icalendar-generator
BEGIN:VTIMEZONE
TZID:UTC
BEGIN:STANDARD
DTSTART:20250726T150527
TZOFFSETFROM:+0000
TZOFFSETTO:+0000
END:STANDARD
END:VTIMEZONE
BEGIN:VEVENT
UID:69e8e3b7ac17d
DTSTAMP:20260422T150527Z
SUMMARY:Ägypten - Land der Unsterblichkeit
DTSTART:20261108T090000Z
DTEND:20261108T090000Z
END:VEVENT
END:VCALENDAR