BEGIN:VCALENDAR
VERSION:2.0
PRODID:spatie/icalendar-generator
BEGIN:VTIMEZONE
TZID:UTC
BEGIN:STANDARD
DTSTART:20250727T033541
TZOFFSETFROM:+0000
TZOFFSETTO:+0000
END:STANDARD
END:VTIMEZONE
BEGIN:VEVENT
UID:69e9938d95d92
DTSTAMP:20260423T033541Z
SUMMARY:Ägypten - Land der Unsterblichkeit
DTSTART:20261024T080000Z
DTEND:20261024T080000Z
END:VEVENT
END:VCALENDAR