BEGIN:VCALENDAR
VERSION:2.0
PRODID:spatie/icalendar-generator
BEGIN:VTIMEZONE
TZID:UTC
BEGIN:STANDARD
DTSTART:20250724T161640
TZOFFSETFROM:+0000
TZOFFSETTO:+0000
END:STANDARD
END:VTIMEZONE
BEGIN:VEVENT
UID:69e65168a9ee1
DTSTAMP:20260420T161640Z
SUMMARY:Ägypten - Land der Unsterblichkeit
DTSTART:20261021T080000Z
DTEND:20261021T080000Z
END:VEVENT
END:VCALENDAR