BEGIN:VCALENDAR
VERSION:2.0
PRODID:spatie/icalendar-generator
BEGIN:VTIMEZONE
TZID:UTC
BEGIN:STANDARD
DTSTART:20250727T170511
TZOFFSETFROM:+0000
TZOFFSETTO:+0000
END:STANDARD
END:VTIMEZONE
BEGIN:VEVENT
UID:69ea514752c0d
DTSTAMP:20260423T170511Z
SUMMARY:Ägypten - Land der Unsterblichkeit
DTSTART:20261003T080000Z
DTEND:20261003T080000Z
END:VEVENT
END:VCALENDAR