BEGIN:VCALENDAR
VERSION:2.0
PRODID:spatie/icalendar-generator
BEGIN:VTIMEZONE
TZID:UTC
BEGIN:STANDARD
DTSTART:20250728T003928
TZOFFSETFROM:+0000
TZOFFSETTO:+0000
END:STANDARD
END:VTIMEZONE
BEGIN:VEVENT
UID:69eabbc029cc8
DTSTAMP:20260424T003928Z
SUMMARY:Ägypten - Land der Unsterblichkeit
DTSTART:20260924T080000Z
DTEND:20260924T080000Z
END:VEVENT
END:VCALENDAR