BEGIN:VCALENDAR
VERSION:2.0
PRODID:spatie/icalendar-generator
BEGIN:VTIMEZONE
TZID:UTC
BEGIN:STANDARD
DTSTART:20250724T202639
TZOFFSETFROM:+0000
TZOFFSETTO:+0000
END:STANDARD
END:VTIMEZONE
BEGIN:VEVENT
UID:69e68bfff2ce1
DTSTAMP:20260420T202639Z
SUMMARY:Tag der Artenvielfalt – Familienführung
DTSTART:20260613T130000Z
DTEND:20260613T143000Z
END:VEVENT
END:VCALENDAR