BEGIN:VCALENDAR
VERSION:2.0
PRODID:spatie/icalendar-generator
BEGIN:VTIMEZONE
TZID:UTC
BEGIN:STANDARD
DTSTART:20250724T113845
TZOFFSETFROM:+0000
TZOFFSETTO:+0000
END:STANDARD
END:VTIMEZONE
BEGIN:VEVENT
UID:69e610452180d
DTSTAMP:20260420T113845Z
SUMMARY:Workshop: Theatergruppe K5
DTSTART:20260429T120000Z
DTEND:20260429T133000Z
END:VEVENT
END:VCALENDAR