BEGIN:VCALENDAR
VERSION:2.0
PRODID:spatie/icalendar-generator
BEGIN:VTIMEZONE
TZID:UTC
BEGIN:STANDARD
DTSTART:20250724T233749
TZOFFSETFROM:+0000
TZOFFSETTO:+0000
END:STANDARD
END:VTIMEZONE
BEGIN:VEVENT
UID:69e6b8cd348be
DTSTAMP:20260420T233749Z
SUMMARY:Preisträgerkonzert „Junge Talente“
DTSTART:20260710T160000Z
DTEND:20260710T180000Z
END:VEVENT
END:VCALENDAR