BEGIN:VCALENDAR
VERSION:2.0
PRODID:spatie/icalendar-generator
BEGIN:VTIMEZONE
TZID:UTC
BEGIN:STANDARD
DTSTART:20250724T010536
TZOFFSETFROM:+0000
TZOFFSETTO:+0000
END:STANDARD
END:VTIMEZONE
BEGIN:VEVENT
UID:69e57be0d1929
DTSTAMP:20260420T010536Z
SUMMARY:Schulungsangebot für Ehrenamt & Vereine - Vereinsgründung und Sat
 zungsgestaltung
DTSTART:20260425T080000Z
DTEND:20260425T093000Z
END:VEVENT
END:VCALENDAR