BEGIN:VCALENDAR
VERSION:2.0
PRODID:spatie/icalendar-generator
BEGIN:VTIMEZONE
TZID:UTC
BEGIN:STANDARD
DTSTART:20250724T160704
TZOFFSETFROM:+0000
TZOFFSETTO:+0000
END:STANDARD
END:VTIMEZONE
BEGIN:VEVENT
UID:69e64f286a1ec
DTSTAMP:20260420T160704Z
SUMMARY:Oliver Polak - COMEDY
DTSTART:20260613T180000Z
DTEND:20260613T180000Z
END:VEVENT
END:VCALENDAR