BEGIN:VCALENDAR
VERSION:2.0
PRODID:spatie/icalendar-generator
BEGIN:VTIMEZONE
TZID:UTC
BEGIN:STANDARD
DTSTART:20250725T114156
TZOFFSETFROM:+0000
TZOFFSETTO:+0000
END:STANDARD
END:VTIMEZONE
BEGIN:VEVENT
UID:69e76284058d8
DTSTAMP:20260421T114156Z
SUMMARY:Simon & Garfunkel Through The Years - Performed by Bookends
DTSTART:20261106T190000Z
DTEND:20261106T190000Z
END:VEVENT
END:VCALENDAR