BEGIN:VCALENDAR
VERSION:2.0
PRODID:spatie/icalendar-generator
BEGIN:VTIMEZONE
TZID:UTC
BEGIN:STANDARD
DTSTART:20250727T011959
TZOFFSETFROM:+0000
TZOFFSETTO:+0000
END:STANDARD
END:VTIMEZONE
BEGIN:VEVENT
UID:69e973bfb8cd0
DTSTAMP:20260423T011959Z
SUMMARY:Christian Brandl – Versuch
DTSTART:20260428T100000Z
DTEND:20260428T100000Z
END:VEVENT
END:VCALENDAR