BEGIN:VCALENDAR
VERSION:2.0
PRODID:spatie/icalendar-generator
BEGIN:VTIMEZONE
TZID:UTC
BEGIN:STANDARD
DTSTART:20250725T175854
TZOFFSETFROM:+0000
TZOFFSETTO:+0000
END:STANDARD
END:VTIMEZONE
BEGIN:VEVENT
UID:69e7bade90236
DTSTAMP:20260421T175854Z
SUMMARY:Faszinierendes Barockschloss: Zeitreise durch die Jahrhunderte
DTSTART:20260517T123000Z
DTEND:20260517T123000Z
END:VEVENT
END:VCALENDAR