BEGIN:VCALENDAR
VERSION:2.0
PRODID:spatie/icalendar-generator
BEGIN:VTIMEZONE
TZID:UTC
BEGIN:STANDARD
DTSTART:20250724T113827
TZOFFSETFROM:+0000
TZOFFSETTO:+0000
END:STANDARD
END:VTIMEZONE
BEGIN:VEVENT
UID:69e61033f1c6c
DTSTAMP:20260420T113827Z
SUMMARY:Faszinierendes Barockschloss: Zeitreise durch die Jahrhunderte
DTSTART:20260426T123000Z
DTEND:20260426T123000Z
END:VEVENT
END:VCALENDAR