BEGIN:VCALENDAR
VERSION:2.0
PRODID:spatie/icalendar-generator
BEGIN:VTIMEZONE
TZID:UTC
BEGIN:STANDARD
DTSTART:20250725T005330
TZOFFSETFROM:+0000
TZOFFSETTO:+0000
END:STANDARD
END:VTIMEZONE
BEGIN:VEVENT
UID:69e6ca8a2f700
DTSTAMP:20260421T005330Z
SUMMARY:Klassische Schlossführung
DTSTART:20260524T090000Z
DTEND:20260524T090000Z
END:VEVENT
END:VCALENDAR