BEGIN:VCALENDAR
VERSION:2.0
PRODID:spatie/icalendar-generator
BEGIN:VTIMEZONE
TZID:UTC
BEGIN:STANDARD
DTSTART:20250724T150046
TZOFFSETFROM:+0000
TZOFFSETTO:+0000
END:STANDARD
END:VTIMEZONE
BEGIN:VEVENT
UID:69e63f9ed6cee
DTSTAMP:20260420T150046Z
SUMMARY:Klassische Schlossführung
DTSTART:20260509T090000Z
DTEND:20260509T090000Z
END:VEVENT
END:VCALENDAR