BEGIN:VCALENDAR
VERSION:2.0
PRODID:spatie/icalendar-generator
BEGIN:VTIMEZONE
TZID:UTC
BEGIN:STANDARD
DTSTART:20250724T150048
TZOFFSETFROM:+0000
TZOFFSETTO:+0000
END:STANDARD
END:VTIMEZONE
BEGIN:VEVENT
UID:69e63fa05d54d
DTSTAMP:20260420T150048Z
SUMMARY:Klassische Schlossführung
DTSTART:20260503T090000Z
DTEND:20260503T090000Z
END:VEVENT
END:VCALENDAR