BEGIN:VCALENDAR
VERSION:2.0
PRODID:spatie/icalendar-generator
BEGIN:VTIMEZONE
TZID:UTC
BEGIN:STANDARD
DTSTART:20250724T150142
TZOFFSETFROM:+0000
TZOFFSETTO:+0000
END:STANDARD
END:VTIMEZONE
BEGIN:VEVENT
UID:69e63fd6afa2c
DTSTAMP:20260420T150142Z
SUMMARY:Klassische Schlossführung
DTSTART:20260425T090000Z
DTEND:20260425T090000Z
END:VEVENT
END:VCALENDAR