BEGIN:VCALENDAR
VERSION:2.0
PRODID:spatie/icalendar-generator
BEGIN:VTIMEZONE
TZID:UTC
BEGIN:STANDARD
DTSTART:20250727T012731
TZOFFSETFROM:+0000
TZOFFSETTO:+0000
END:STANDARD
END:VTIMEZONE
BEGIN:VEVENT
UID:69e9758326a8c
DTSTAMP:20260423T012731Z
SUMMARY:Der Gott des Gemetzels
DTSTART:20260619T180000Z
DTEND:20260619T180000Z
END:VEVENT
END:VCALENDAR