BEGIN:VCALENDAR
VERSION:2.0
PRODID:spatie/icalendar-generator
BEGIN:VTIMEZONE
TZID:UTC
BEGIN:STANDARD
DTSTART:20250724T105517
TZOFFSETFROM:+0000
TZOFFSETTO:+0000
END:STANDARD
END:VTIMEZONE
BEGIN:VEVENT
UID:69e606150b3b3
DTSTAMP:20260420T105517Z
SUMMARY:Der Gott des Gemetzels
DTSTART:20260614T160000Z
DTEND:20260614T160000Z
END:VEVENT
END:VCALENDAR