BEGIN:VCALENDAR
VERSION:2.0
PRODID:spatie/icalendar-generator
BEGIN:VTIMEZONE
TZID:UTC
BEGIN:STANDARD
DTSTART:20250724T104805
TZOFFSETFROM:+0000
TZOFFSETTO:+0000
END:STANDARD
END:VTIMEZONE
BEGIN:VEVENT
UID:69e6046594ac0
DTSTAMP:20260420T104805Z
SUMMARY:Du bischd so heess wie aen Vulkan
DTSTART:20260704T180000Z
DTEND:20260704T180000Z
END:VEVENT
END:VCALENDAR