BEGIN:VCALENDAR
VERSION:2.0
PRODID:spatie/icalendar-generator
BEGIN:VTIMEZONE
TZID:UTC
BEGIN:STANDARD
DTSTART:20250724T181313
TZOFFSETFROM:+0000
TZOFFSETTO:+0000
END:STANDARD
END:VTIMEZONE
BEGIN:VEVENT
UID:69e66cb9a14be
DTSTAMP:20260420T181313Z
SUMMARY:Isch füdder bloss die Katz
DTSTART:20260509T180000Z
DTEND:20260509T180000Z
END:VEVENT
END:VCALENDAR