BEGIN:VCALENDAR
VERSION:2.0
PRODID:spatie/icalendar-generator
BEGIN:VTIMEZONE
TZID:UTC
BEGIN:STANDARD
DTSTART:20250724T044100
TZOFFSETFROM:+0000
TZOFFSETTO:+0000
END:STANDARD
END:VTIMEZONE
BEGIN:VEVENT
UID:69e5ae5c4dc27
DTSTAMP:20260420T044100Z
SUMMARY:Matilde Keizer - Lasagne im Bett
DTSTART:20270220T190000Z
DTEND:20270220T190000Z
END:VEVENT
END:VCALENDAR