BEGIN:VCALENDAR
VERSION:2.0
PRODID:spatie/icalendar-generator
BEGIN:VTIMEZONE
TZID:UTC
BEGIN:STANDARD
DTSTART:20250728T003934
TZOFFSETFROM:+0000
TZOFFSETTO:+0000
END:STANDARD
END:VTIMEZONE
BEGIN:VEVENT
UID:69eabbc62ccca
DTSTAMP:20260424T003934Z
SUMMARY:Hansi ist ungefähr tot
DTSTART:20260718T180000Z
DTEND:20260718T180000Z
END:VEVENT
END:VCALENDAR