BEGIN:VCALENDAR
VERSION:2.0
PRODID:spatie/icalendar-generator
BEGIN:VTIMEZONE
TZID:UTC
BEGIN:STANDARD
DTSTART:20250724T124634
TZOFFSETFROM:+0000
TZOFFSETTO:+0000
END:STANDARD
END:VTIMEZONE
BEGIN:VEVENT
UID:69e6202a2dbc6
DTSTAMP:20260420T124634Z
SUMMARY:Hansi ist ungefähr tot
DTSTART:20260717T180000Z
DTEND:20260717T180000Z
END:VEVENT
END:VCALENDAR