BEGIN:VCALENDAR
VERSION:2.0
PRODID:spatie/icalendar-generator
BEGIN:VTIMEZONE
TZID:UTC
BEGIN:STANDARD
DTSTART:20250724T104836
TZOFFSETFROM:+0000
TZOFFSETTO:+0000
END:STANDARD
END:VTIMEZONE
BEGIN:VEVENT
UID:69e6048435b0a
DTSTAMP:20260420T104836Z
SUMMARY:Ich träum so oft vom Fernsehgarten
DTSTART:20260621T160000Z
DTEND:20260621T160000Z
END:VEVENT
END:VCALENDAR