BEGIN:VCALENDAR
VERSION:2.0
PRODID:spatie/icalendar-generator
BEGIN:VTIMEZONE
TZID:UTC
BEGIN:STANDARD
DTSTART:20250724T104837
TZOFFSETFROM:+0000
TZOFFSETTO:+0000
END:STANDARD
END:VTIMEZONE
BEGIN:VEVENT
UID:69e604853883a
DTSTAMP:20260420T104837Z
SUMMARY:Ich träum so oft vom Fernsehgarten
DTSTART:20260620T180000Z
DTEND:20260620T180000Z
END:VEVENT
END:VCALENDAR