BEGIN:VCALENDAR
VERSION:2.0
PRODID:spatie/icalendar-generator
BEGIN:VTIMEZONE
TZID:UTC
BEGIN:STANDARD
DTSTART:20250727T091246
TZOFFSETFROM:+0000
TZOFFSETTO:+0000
END:STANDARD
END:VTIMEZONE
BEGIN:VEVENT
UID:69e9e28ecffa1
DTSTAMP:20260423T091246Z
SUMMARY:Männerschnupfen
DTSTART:20260627T180000Z
DTEND:20260627T180000Z
END:VEVENT
END:VCALENDAR