BEGIN:VCALENDAR
VERSION:2.0
PRODID:spatie/icalendar-generator
BEGIN:VTIMEZONE
TZID:UTC
BEGIN:STANDARD
DTSTART:20250727T072657
TZOFFSETFROM:+0000
TZOFFSETTO:+0000
END:STANDARD
END:VTIMEZONE
BEGIN:VEVENT
UID:69e9c9c150f52
DTSTAMP:20260423T072657Z
SUMMARY:10 Jahre Männerschnupfen
DTSTART:20260626T180000Z
DTEND:20260626T180000Z
END:VEVENT
END:VCALENDAR