BEGIN:VCALENDAR
VERSION:2.0
PRODID:spatie/icalendar-generator
BEGIN:VTIMEZONE
TZID:UTC
BEGIN:STANDARD
DTSTART:20250726T011302
TZOFFSETFROM:+0000
TZOFFSETTO:+0000
END:STANDARD
END:VTIMEZONE
BEGIN:VEVENT
UID:69e8209e234a5
DTSTAMP:20260422T011302Z
SUMMARY:Céline Bouvier - Zu schön um wahr zu sein
DTSTART:20260522T160000Z
DTEND:20260522T160000Z
END:VEVENT
END:VCALENDAR