BEGIN:VCALENDAR
VERSION:2.0
PRODID:spatie/icalendar-generator
BEGIN:VTIMEZONE
TZID:UTC
BEGIN:STANDARD
DTSTART:20250725T194635
TZOFFSETFROM:+0000
TZOFFSETTO:+0000
END:STANDARD
END:VTIMEZONE
BEGIN:VEVENT
UID:69e7d41bb4455
DTSTAMP:20260421T194635Z
SUMMARY:Céline Bouvier - Zu schön um wahr zu sein
DTSTART:20260517T160000Z
DTEND:20260517T160000Z
END:VEVENT
END:VCALENDAR