BEGIN:VCALENDAR
VERSION:2.0
PRODID:spatie/icalendar-generator
BEGIN:VTIMEZONE
TZID:UTC
BEGIN:STANDARD
DTSTART:20250726T110814
TZOFFSETFROM:+0000
TZOFFSETTO:+0000
END:STANDARD
END:VTIMEZONE
BEGIN:VEVENT
UID:69e8ac1ecf164
DTSTAMP:20260422T110814Z
SUMMARY:MusikWelten
DTSTART:20260807T080000Z
DTEND:20260807T080000Z
END:VEVENT
END:VCALENDAR