BEGIN:VCALENDAR
VERSION:2.0
PRODID:spatie/icalendar-generator
BEGIN:VTIMEZONE
TZID:UTC
BEGIN:STANDARD
DTSTART:20250728T223644
TZOFFSETFROM:+0000
TZOFFSETTO:+0000
END:STANDARD
END:VTIMEZONE
BEGIN:VEVENT
UID:69ebf07c419a4
DTSTAMP:20260424T223644Z
SUMMARY:Ägypten - Land der Unsterblichkeit
DTSTART:20260826T080000Z
DTEND:20260826T080000Z
END:VEVENT
END:VCALENDAR