BEGIN:VCALENDAR
VERSION:2.0
PRODID:spatie/icalendar-generator
BEGIN:VTIMEZONE
TZID:UTC
BEGIN:STANDARD
DTSTART:20250728T190958
TZOFFSETFROM:+0000
TZOFFSETTO:+0000
END:STANDARD
END:VTIMEZONE
BEGIN:VEVENT
UID:69ebc0062d6b6
DTSTAMP:20260424T190958Z
SUMMARY:Ägypten - Land der Unsterblichkeit
DTSTART:20260811T080000Z
DTEND:20260811T080000Z
END:VEVENT
END:VCALENDAR