BEGIN:VCALENDAR
VERSION:2.0
PRODID:spatie/icalendar-generator
BEGIN:VTIMEZONE
TZID:UTC
BEGIN:STANDARD
DTSTART:20250724T160513
TZOFFSETFROM:+0000
TZOFFSETTO:+0000
END:STANDARD
END:VTIMEZONE
BEGIN:VEVENT
UID:69e64eb9b04c1
DTSTAMP:20260420T160513Z
SUMMARY:Ägypten - Land der Unsterblichkeit
DTSTART:20260808T080000Z
DTEND:20260808T080000Z
END:VEVENT
END:VCALENDAR