BEGIN:VCALENDAR
VERSION:2.0
PRODID:spatie/icalendar-generator
BEGIN:VTIMEZONE
TZID:UTC
BEGIN:STANDARD
DTSTART:20250728T114547
TZOFFSETFROM:+0000
TZOFFSETTO:+0000
END:STANDARD
END:VTIMEZONE
BEGIN:VEVENT
UID:69eb57eb8d737
DTSTAMP:20260424T114547Z
SUMMARY:Ägypten - Land der Unsterblichkeit
DTSTART:20260806T080000Z
DTEND:20260806T080000Z
END:VEVENT
END:VCALENDAR