BEGIN:VCALENDAR
VERSION:2.0
PRODID:spatie/icalendar-generator
BEGIN:VTIMEZONE
TZID:UTC
BEGIN:STANDARD
DTSTART:20250724T124904
TZOFFSETFROM:+0000
TZOFFSETTO:+0000
END:STANDARD
END:VTIMEZONE
BEGIN:VEVENT
UID:69e620c0675c6
DTSTAMP:20260420T124904Z
SUMMARY:After Work Tuesday
DTSTART:20260915T153000Z
DTEND:20260915T170000Z
END:VEVENT
END:VCALENDAR