BEGIN:VCALENDAR
VERSION:2.0
PRODID:spatie/icalendar-generator
BEGIN:VTIMEZONE
TZID:UTC
BEGIN:STANDARD
DTSTART:20250724T124607
TZOFFSETFROM:+0000
TZOFFSETTO:+0000
END:STANDARD
END:VTIMEZONE
BEGIN:VEVENT
UID:69e6200fd83c4
DTSTAMP:20260420T124607Z
SUMMARY:After Work Tuesday
DTSTART:20260630T153000Z
DTEND:20260630T170000Z
END:VEVENT
END:VCALENDAR